BEGIN:VCALENDAR
VERSION:2.0
PRODID:-//wp-events-plugin.com//7.2.3.1//EN
TZID:Australia/Brisbane
X-WR-TIMEZONE:Australia/Brisbane
BEGIN:VEVENT
UID:8@southburnettrailtrail.au
DTSTART;TZID=Australia/Brisbane:20230521T070000
DTEND;TZID=Australia/Brisbane:20230521T160000
DTSTAMP:20240117T214312Z
URL:https://southburnettrailtrail.au/events/personal-bike-servicing-group-
 maintenance-workshop/
SUMMARY:Personal Bike Servicing & Group Maintenance Workshop
DESCRIPTION:Hosted by the Pink Flamingos- South Burnett Hub\n\nSee Facebook
  Event for details\n\nhttps://www.facebook.com/events/910703310155152/?ref
 =newsfeed\n\n[caption id="attachment_18266" align="alignnone" width="300"]
  Pink Flamingos- South Burnett Hub[/caption]
CATEGORIES:General
END:VEVENT
BEGIN:VTIMEZONE
TZID:Australia/Brisbane
X-LIC-LOCATION:Australia/Brisbane
BEGIN:STANDARD
DTSTART:20220521T070000
TZOFFSETFROM:+1000
TZOFFSETTO:+1000
TZNAME:AEST
END:STANDARD
END:VTIMEZONE
END:VCALENDAR