BEGIN:VCALENDAR
VERSION:2.0
PRODID:-//wp-events-plugin.com//7.2.3.1//EN
TZID:Australia/Brisbane
X-WR-TIMEZONE:Australia/Brisbane
BEGIN:VEVENT
UID:6@southburnettrailtrail.au
DTSTART;TZID=Australia/Brisbane:20230415T083000
DTEND;TZID=Australia/Brisbane:20230415T113000
DTSTAMP:20240117T214303Z
URL:https://southburnettrailtrail.au/events/south-burnnett-rail-trail-user
 s-association-community-bike-ride/
SUMMARY:South Burnett Rail Trail Users Association Community Bike Ride
DESCRIPTION:This event is hosted by the South Burnett rail Trail Users Asso
 ciation in conjunction with the South Burnett Mountain Bike Club. We will 
 meet at the Wondai Regional Art Gallery at 8:30am for a roll off soon afte
 rwards. We will be riding to Wooroolin and return. This is a total distanc
 e of 27kms\, you can ride the whole distance or part there of.\n\nWhen we 
 arrive in Wooroolin the Wooroolin CWA will have cake and a cup of tea read
 y (bring some cash for this). Farm to Fork will be open for a browse as wi
 ll the Butcher's Café if you need a cappuccino.\n\nFrom Wooroolin it is a
  downhill cruise back into Wondai. The cost of the tickets covers a sausag
 e Sizzle and a cold drink when you return to finish at the Wondai regiona
 l Art Gallery. All money raised goes to promoting and developing our wonde
 rful Rail Trail.\n\nMake sure you bring water\, sun screen and maybe a spa
 re tube would be a good idea\, just in case.\n\nBuy Tickets\n\n\n&nbsp\;\n
 \n&nbsp\;\n\n[caption id="attachment_17478" align="alignnone" width="300"]
  Tingoora Bridge[/caption]
CATEGORIES:General
END:VEVENT
BEGIN:VTIMEZONE
TZID:Australia/Brisbane
X-LIC-LOCATION:Australia/Brisbane
BEGIN:STANDARD
DTSTART:20220415T083000
TZOFFSETFROM:+1000
TZOFFSETTO:+1000
TZNAME:AEST
END:STANDARD
END:VTIMEZONE
END:VCALENDAR