BEGIN:VCALENDAR
VERSION:2.0
PRODID:-//wp-events-plugin.com//7.2.3.1//EN
TZID:Australia/Brisbane
X-WR-TIMEZONE:Australia/Brisbane
BEGIN:VEVENT
UID:10@southburnettrailtrail.au
DTSTART;TZID=Australia/Brisbane:20230617T103000
DTEND;TZID=Australia/Brisbane:20230617T140000
DTSTAMP:20240117T214318Z
URL:https://southburnettrailtrail.au/events/winter-wellness-ride-1-kingaro
 y-to-wooroolin/
SUMMARY:Winter Wellness Ride 1 Kingaroy to Wooroolin
DESCRIPTION:WINTER WELLNESS RIDES- June-August 2023\nEXCITING RAIL TRAIL RI
 DE OPPORTUNITIES\nThe South Burnett Rail Trail Users Association (SBRTUA)\
 , has partnered with the South Burnett Mountain Bike Club (SBMTBC) and the
  South Burnett Regional Council to present 3 Rail Trail Rides. TICKETS AVA
 ILABLE NOW FOR RIDE 1- Kingaroy to Wooroolin for lunch at the Grand Hotel.
  Lunch and bus return (if needed) included in the cost of a ticket and the
 y are cheap. ONLY 30 spots available.\nSEE TICKET DETAILS FOR INCLUSIONS- 
 Discounts for SBRTUA and SBMTBC members\nCLICK FOR TICKETS\nhttps://www.st
 ickytickets.com.au/PWJ1F\n\n[caption id="attachment_18496" align="alignnon
 e" width="300"] SB Rail Trail[/caption]\n\n&nbsp\;
CATEGORIES:General
END:VEVENT
BEGIN:VTIMEZONE
TZID:Australia/Brisbane
X-LIC-LOCATION:Australia/Brisbane
BEGIN:STANDARD
DTSTART:20220617T103000
TZOFFSETFROM:+1000
TZOFFSETTO:+1000
TZNAME:AEST
END:STANDARD
END:VTIMEZONE
END:VCALENDAR