BEGIN:VCALENDAR
VERSION:2.0
PRODID:-//wp-events-plugin.com//7.2.3.1//EN
TZID:Australia/Brisbane
X-WR-TIMEZONE:Australia/Brisbane
BEGIN:VEVENT
UID:4@southburnettrailtrail.au
DTSTART;TZID=Australia/Brisbane;VALUE=DATE:20230624
DTEND;TZID=Australia/Brisbane;VALUE=DATE:20230626
DTSTAMP:20240117T214322Z
URL:https://southburnettrailtrail.au/events/wondai-country-running-festiva
 l/
SUMMARY:Wondai Country Running Festival
DESCRIPTION:A day of country fun with markets\, music\, kids entertainment 
 and more.   Do come early to enjoy as part of your running weekend.\n\nW
 ondai is a small country town on the Bunya Highway. About 2.5 hours from t
 he Sunshine Coast and 3 hours from Brisbane. We are friendly and welcoming
 \n\nThe Wondai Country Festival and Wondai Country Running Festival are an
  innovative joint partnership combining country hospitality and healthy li
 festyle.\n\nThe next Wondai Country Festival will commence at 7am on 24 Ju
 ne 2023 with the Wondai Country Market  in Coronation Park and the regula
 r Wondai parkrun also starting at 7am..\n\nDuring the markets there will b
 e a huge number of rides\, market and food stalls.  We will have a full d
 ay of entertainment at the Percy Iszlaub Pavilion which will include live 
 country music with the Stolzenberg Brothers\, Wondai Town &amp\; District 
 Band\, local choirs and performers including local whip crackers.\n\nSatur
 day afternoon will see the McEuen forest 11.1 km and 21.1km trail runs beg
 inning at 12.30 pm near the timber museum.\n\nSunday morning will see the 
 rail trail runs including a marathon\, half marathon and 10 km run.\n\nA f
 un weekend for all!!\n\nA detailed entertainment program will be available
  leading up to the festival…so stay tuned\n\nFor more information on the
  markets and festival  contact  Wondai Art Gallery on 4168 5926\n\nfor t
 he Running events contact the team at admin@wondaicountryfestival.com.au\
 n\nOr visit the website at https://wondaicountryfestival.com.au/\n\n
CATEGORIES:General
LOCATION:https://wondaicountryfestival.com.au/
END:VEVENT
BEGIN:VTIMEZONE
TZID:Australia/Brisbane
X-LIC-LOCATION:Australia/Brisbane
BEGIN:STANDARD
DTSTART:20220624T000000
TZOFFSETFROM:+1000
TZOFFSETTO:+1000
TZNAME:AEST
END:STANDARD
END:VTIMEZONE
END:VCALENDAR